BEGIN:VCALENDAR
PRODID:templ5.webt.iee.ihu.gr
VERSION:2.0
CALSCALE:GREGORIAN
X-WR-TIMEZONE:Europe/Athens
METHOD:PUBLISH
BEGIN:VEVENT
DTSTART:20260227T120000
DTEND:20260227T133000
DTSTAMP:20260129T171036
CREATED:20260129T171036
SUMMARY:Ομιλία με θέμα &#8220;Το σύστημα της Ασφάλειας Τροφίμων στην ΕΕ&#8221;
DESCRIPTION:{"color": "#ED6663"}
URL:https://www.food.ihu.gr/en/events/%ce%bf%ce%bc%ce%b9%ce%bb%ce%af%ce%b1-%ce%bc%ce%b5-%ce%b8%ce%ad%ce%bc%ce%b1-%cf%84%ce%bf-%cf%83%cf%8d%cf%83%cf%84%ce%b7%ce%bc%ce%b1-%cf%84%ce%b7%cf%82-%ce%b1%cf%83%cf%86%ce%ac%ce%bb%ce%b5%ce%b9%ce%b1/
UID: EVENT-7842
LAST-MODIFIED:20260129T171036
TRANSP:OPAQUE
END:VEVENT
BEGIN:VEVENT
DTSTART:20260220T120000
DTEND:20260220T140000
DTSTAMP:20260127T213214
CREATED:20260127T213214
SUMMARY:Συνάντηση Ενημέρωσης με αποφοίτους του Τμήματος
DESCRIPTION:{"color": "#B52B65"}
URL:https://www.food.ihu.gr/en/events/%cf%83%cf%85%ce%bd%ce%ac%ce%bd%cf%84%ce%b7%cf%83%ce%b7-%ce%b5%ce%bd%ce%b7%ce%bc%ce%ad%cf%81%cf%89%cf%83%ce%b7%cf%82-%ce%bc%ce%b5-%ce%b1%cf%80%ce%bf%cf%86%ce%bf%ce%af%cf%84%ce%bf%cf%85%cf%82-%cf%84/
UID: EVENT-7832
LAST-MODIFIED:20260127T213400
TRANSP:OPAQUE
END:VEVENT
BEGIN:VEVENT
DTSTART:20260312T100000
DTEND:20260312T110000
DTSTAMP:20260115T162301
CREATED:20260115T162301
SUMMARY:ΔΙΑΛΕΞΗ ΤΑ ΜΑΝΙΤΑΡΙΑ ΤΗΣ ΕΛΛΑΔΑΣ
DESCRIPTION:{"color": "#864879"}
URL:https://www.food.ihu.gr/en/events/%ce%b4%ce%b9%ce%b1%ce%bb%ce%b5%ce%be%ce%b7-%cf%84%ce%b1-%ce%bc%ce%b1%ce%bd%ce%b9%cf%84%ce%b1%cf%81%ce%b9%ce%b1-%cf%84%ce%b7%cf%83-%ce%b5%ce%bb%ce%bb%ce%b1%ce%b4%ce%b1%cf%83/
UID: EVENT-7801
LAST-MODIFIED:20260115T162301
TRANSP:OPAQUE
END:VEVENT
BEGIN:VEVENT
DTSTART:20251111T110000
DTEND:20251111T120000
DTSTAMP:20251105T152316
CREATED:20251105T152316
SUMMARY:ΟΜΙΛΙΑ (στα αγγλικά): “Edible Packaging Materials”
DESCRIPTION:{"color": "#A13333"}
URL:https://www.food.ihu.gr/en/events/%ce%bf%ce%bc%ce%b9%ce%bb%ce%b9%ce%b1-%cf%83%cf%84%ce%b1-%ce%b1%ce%b3%ce%b3%ce%bb%ce%b9%ce%ba%ce%ac-edible-packaging-materials/
UID: EVENT-7419
LAST-MODIFIED:20251105T152316
TRANSP:OPAQUE
END:VEVENT
BEGIN:VEVENT
DTSTART:20251114T090000
DTEND:20251114T110000
DTSTAMP:20251104T171943
CREATED:20251104T171943
SUMMARY:ΟΜΙΛΙΕΣ Thomas Bata University
DESCRIPTION:{"color": "2D4263"}
URL:https://www.food.ihu.gr/en/events/%ce%bf%ce%bc%ce%b9%ce%bb%ce%b9%ce%b5%cf%83-thomas-bata-university/
UID: EVENT-7407
LAST-MODIFIED:20251104T172028
TRANSP:OPAQUE
END:VEVENT
BEGIN:VEVENT
DTSTART:20250926T123000
DTEND:20250926T140000
DTSTAMP:20250923T115225
CREATED:20250923T115225
SUMMARY:Εκδήλωση ενημέρωσης και συνομιλίας με απόφοιτους του Τμήματος
DESCRIPTION:{"color": "#ED6663"}
URL:https://www.food.ihu.gr/en/events/%ce%b5%ce%ba%ce%b4%ce%ae%ce%bb%cf%89%cf%83%ce%b7-%ce%b5%ce%bd%ce%b7%ce%bc%ce%ad%cf%81%cf%89%cf%83%ce%b7%cf%82-%ce%ba%ce%b1%ce%b9-%cf%83%cf%85%ce%bd%ce%bf%ce%bc%ce%b9%ce%bb%ce%af%ce%b1%cf%82-%ce%bc/
UID: EVENT-7088
LAST-MODIFIED:20250923T115312
TRANSP:OPAQUE
END:VEVENT
BEGIN:VEVENT
DTSTART:20250529T070000
DTEND:20250529T090000
DTSTAMP:20250602T212932
CREATED:20250602T212932
SUMMARY:Εκπαιδευτική Επίσκεψη στην Pelopac
DESCRIPTION:{"color": "#B52B65"}
URL:https://www.food.ihu.gr/en/events/%ce%b5%ce%ba%cf%80%ce%b1%ce%b9%ce%b4%ce%b5%cf%85%cf%84%ce%b9%ce%ba%ce%ae-%ce%b5%cf%80%ce%af%cf%83%ce%ba%ce%b5%cf%88%ce%b7-%cf%83%cf%84%ce%b7%ce%bd-pelopac/
UID: EVENT-6796
LAST-MODIFIED:20250602T212932
TRANSP:OPAQUE
END:VEVENT
BEGIN:VEVENT
DTSTART:20250528T100000
DTEND:20250528T120000
DTSTAMP:20250519T175534
CREATED:20250519T175534
SUMMARY:Επιμορφωτικές Διαλέξεις
DESCRIPTION:{"color": "#864879"}
URL:https://www.food.ihu.gr/en/events/%ce%b5%cf%80%ce%b9%ce%bc%ce%bf%cf%81%cf%86%cf%89%cf%84%ce%b9%ce%ba%ce%ad%cf%82-%ce%b4%ce%b9%ce%b1%ce%bb%ce%ad%ce%be%ce%b5%ce%b9%cf%82/
UID: EVENT-6748
LAST-MODIFIED:20250529T122649
TRANSP:OPAQUE
END:VEVENT
BEGIN:VEVENT
DTSTART:20250516T070000
DTEND:20250516T090000
DTSTAMP:20250519T174345
CREATED:20250519T174345
SUMMARY:Εκπαιδευτική Επίσκεψη στην ΔΕΑΣ Α.Ε.
DESCRIPTION:{"color": "#A13333"}
URL:https://www.food.ihu.gr/en/events/%ce%b5%ce%ba%cf%80%ce%b1%ce%b9%ce%b4%ce%b5%cf%85%cf%84%ce%b9%ce%ba%ce%ae-%ce%b5%cf%80%ce%af%cf%83%ce%ba%ce%b5%cf%88%ce%b7-%cf%83%cf%84%ce%b7%ce%bd-%ce%b4%ce%b5%ce%b1%cf%83-%ce%b1-%ce%b5/
UID: EVENT-6745
LAST-MODIFIED:20250519T180020
TRANSP:OPAQUE
END:VEVENT
BEGIN:VEVENT
DTSTART:20250430T090000
DTEND:20250430T140000
DTSTAMP:20250416T170743
CREATED:20250416T170743
SUMMARY:Εκδήλωση που διοργανώνουν τα Τμήματα Επιστημών Διατροφής &#038; Διαιτολογίας και Επιστήμης &#038; Τεχνολογίας Τροφίμων του ΔΙ.ΠΑ.Ε. σε συνεργασία με τα Κ.E.ΠΕ.Α Αρναίας, Νάουσας και Ελ. Κορδελιού, στο πλαίσιο της Εθνικής Δράσης κατά της Παιδικής Παχυσαρκίας, Τετάρτη 30 Απριλίου 2025
DESCRIPTION:{"color": "2D4263"}
URL:https://www.food.ihu.gr/en/events/%ce%b5%ce%ba%ce%b4%ce%ae%ce%bb%cf%89%cf%83%ce%b7-%cf%80%ce%bf%cf%85-%ce%b4%ce%b9%ce%bf%cf%81%ce%b3%ce%b1%ce%bd%cf%8e%ce%bd%ce%bf%cf%85%ce%bd-%cf%84%ce%b1-%cf%84%ce%bc%ce%ae%ce%bc%ce%b1%cf%84%ce%b1/
UID: EVENT-6651
LAST-MODIFIED:20250416T171251
TRANSP:OPAQUE
END:VEVENT
END:VCALENDAR