BEGIN:VCALENDAR
PRODID:templ5.webt.iee.ihu.gr
VERSION:2.0
CALSCALE:GREGORIAN
X-WR-TIMEZONE:Europe/Athens
METHOD:PUBLISH
BEGIN:VEVENT
DTSTART:20260420T100000
DTEND:20260420T120000
DTSTAMP:20260213T135820
CREATED:20260213T135820
SUMMARY:Αναλυτική Χημεία: Εργαστήριο Ομάδα Α
DESCRIPTION: (276-190202) Αναλυτική Χημεία, 2o εξάμηνο, Εργαστήριο Ομάδα Α
URL:https://www.food.ihu.gr/courses/276-190202/
UID: 7875-1
LAST-MODIFIED:20260213T135820
TRANSP:OPAQUE
END:VEVENT
BEGIN:VEVENT
DTSTART:20260420T120000
DTEND:20260420T140000
DTSTAMP:20260213T135820
CREATED:20260213T135820
SUMMARY:Αναλυτική Χημεία: Εργαστήριο Ομάδα Β
DESCRIPTION: (276-190202) Αναλυτική Χημεία, 2o εξάμηνο, Εργαστήριο Ομάδα Β
URL:https://www.food.ihu.gr/courses/276-190202/
UID: 7875-2
LAST-MODIFIED:20260213T135820
TRANSP:OPAQUE
END:VEVENT
BEGIN:VEVENT
DTSTART:20260421T090000
DTEND:20260421T110000
DTSTAMP:20260213T135820
CREATED:20260213T135820
SUMMARY:Αναλυτική Χημεία: Θεωρία
DESCRIPTION: (276-190202) Αναλυτική Χημεία, 2o εξάμηνο, Θεωρία
URL:https://www.food.ihu.gr/courses/276-190202/
UID: 7875-3
LAST-MODIFIED:20260213T135820
TRANSP:OPAQUE
END:VEVENT
BEGIN:VEVENT
DTSTART:20260420T140000
DTEND:20260420T160000
DTSTAMP:20260213T135820
CREATED:20260213T135820
SUMMARY:Αναλυτική Χημεία: Εργαστήριο Ομάδα Γ
DESCRIPTION: (276-190202) Αναλυτική Χημεία, 2o εξάμηνο, Εργαστήριο Ομάδα Γ
URL:https://www.food.ihu.gr/courses/276-190202/
UID: 7875-4
LAST-MODIFIED:20260213T135820
TRANSP:OPAQUE
END:VEVENT
BEGIN:VEVENT
DTSTART:20260423T100000
DTEND:20260423T120000
DTSTAMP:20260213T135820
CREATED:20260213T135820
SUMMARY:Αναλυτική Χημεία: Εργαστήριο Ομάδα Δ
DESCRIPTION: (276-190202) Αναλυτική Χημεία, 2o εξάμηνο, Εργαστήριο Ομάδα Δ
URL:https://www.food.ihu.gr/courses/276-190202/
UID: 7875-5
LAST-MODIFIED:20260213T135820
TRANSP:OPAQUE
END:VEVENT
BEGIN:VEVENT
DTSTART:20260423T120000
DTEND:20260423T140000
DTSTAMP:20260213T135820
CREATED:20260213T135820
SUMMARY:Αναλυτική Χημεία: Εργαστήριο Ομάδα Ε
DESCRIPTION: (276-190202) Αναλυτική Χημεία, 2o εξάμηνο, Εργαστήριο Ομάδα Ε
URL:https://www.food.ihu.gr/courses/276-190202/
UID: 7875-6
LAST-MODIFIED:20260213T135820
TRANSP:OPAQUE
END:VEVENT
BEGIN:VEVENT
DTSTART:20260423T140000
DTEND:20260423T160000
DTSTAMP:20260213T135820
CREATED:20260213T135820
SUMMARY:Αναλυτική Χημεία: Εργαστήριο Ομάδα ΣΤ
DESCRIPTION: (276-190202) Αναλυτική Χημεία, 2o εξάμηνο, Εργαστήριο Ομάδα ΣΤ
URL:https://www.food.ihu.gr/courses/276-190202/
UID: 7875-7
LAST-MODIFIED:20260213T135820
TRANSP:OPAQUE
END:VEVENT
BEGIN:VEVENT
DTSTART:20260421T130000
DTEND:20260421T150000
DTSTAMP:20260213T135820
CREATED:20260213T135820
SUMMARY:Γενική Μικροβιολογία: Θεωρία
DESCRIPTION: (276-190203) Γενική Μικροβιολογία, 2o εξάμηνο, Θεωρία
URL:https://www.food.ihu.gr/courses/276-190203/
UID: 7875-8
LAST-MODIFIED:20260213T135820
TRANSP:OPAQUE
END:VEVENT
BEGIN:VEVENT
DTSTART:20260420T100000
DTEND:20260420T120000
DTSTAMP:20260213T135820
CREATED:20260213T135820
SUMMARY:Γενική Μικροβιολογία: Εργαστήριο Ομάδα Α
DESCRIPTION: (276-190203) Γενική Μικροβιολογία, 2o εξάμηνο, Εργαστήριο Ομάδα Α
URL:https://www.food.ihu.gr/courses/276-190203/
UID: 7875-9
LAST-MODIFIED:20260213T135820
TRANSP:OPAQUE
END:VEVENT
BEGIN:VEVENT
DTSTART:20260420T120000
DTEND:20260420T140000
DTSTAMP:20260213T135820
CREATED:20260213T135820
SUMMARY:Γενική Μικροβιολογία: Εργαστήριο Ομάδα Β
DESCRIPTION: (276-190203) Γενική Μικροβιολογία, 2o εξάμηνο, Εργαστήριο Ομάδα Β
URL:https://www.food.ihu.gr/courses/276-190203/
UID: 7875-10
LAST-MODIFIED:20260213T135820
TRANSP:OPAQUE
END:VEVENT
BEGIN:VEVENT
DTSTART:20260423T100000
DTEND:20260423T120000
DTSTAMP:20260213T135820
CREATED:20260213T135820
SUMMARY:Γενική Μικροβιολογία: Εργαστήριο Ομάδα Γ
DESCRIPTION: (276-190203) Γενική Μικροβιολογία, 2o εξάμηνο, Εργαστήριο Ομάδα Γ
URL:https://www.food.ihu.gr/courses/276-190203/
UID: 7875-11
LAST-MODIFIED:20260213T135820
TRANSP:OPAQUE
END:VEVENT
BEGIN:VEVENT
DTSTART:20260423T120000
DTEND:20260423T140000
DTSTAMP:20260213T135820
CREATED:20260213T135820
SUMMARY:Γενική Μικροβιολογία: Εργαστήριο Ομάδα Δ
DESCRIPTION: (276-190203) Γενική Μικροβιολογία, 2o εξάμηνο, Εργαστήριο Ομάδα Δ
URL:https://www.food.ihu.gr/courses/276-190203/
UID: 7875-12
LAST-MODIFIED:20260213T135820
TRANSP:OPAQUE
END:VEVENT
BEGIN:VEVENT
DTSTART:20260423T140000
DTEND:20260423T160000
DTSTAMP:20260213T135820
CREATED:20260213T135820
SUMMARY:Γενική Μικροβιολογία: Εργαστήριο Ομάδα Ε
DESCRIPTION: (276-190203) Γενική Μικροβιολογία, 2o εξάμηνο, Εργαστήριο Ομάδα Ε
URL:https://www.food.ihu.gr/courses/276-190203/
UID: 7875-13
LAST-MODIFIED:20260213T135820
TRANSP:OPAQUE
END:VEVENT
BEGIN:VEVENT
DTSTART:20260424T120000
DTEND:20260424T140000
DTSTAMP:20260213T135820
CREATED:20260213T135820
SUMMARY:Γενική Μικροβιολογία: Εργαστήριο Ομάδα ΣΤ
DESCRIPTION: (276-190203) Γενική Μικροβιολογία, 2o εξάμηνο, Εργαστήριο Ομάδα ΣΤ
URL:https://www.food.ihu.gr/courses/276-190203/
UID: 7875-14
LAST-MODIFIED:20260213T135820
TRANSP:OPAQUE
END:VEVENT
BEGIN:VEVENT
DTSTART:20260424T140000
DTEND:20260424T160000
DTSTAMP:20260213T135820
CREATED:20260213T135820
SUMMARY:Γενική Μικροβιολογία: Εργαστήριο Ομάδα Ζ
DESCRIPTION: (276-190203) Γενική Μικροβιολογία, 2o εξάμηνο, Εργαστήριο Ομάδα Ζ
URL:https://www.food.ihu.gr/courses/276-190203/
UID: 7875-15
LAST-MODIFIED:20260213T135820
TRANSP:OPAQUE
END:VEVENT
BEGIN:VEVENT
DTSTART:20260421T150000
DTEND:20260421T160000
DTSTAMP:20260213T135820
CREATED:20260213T135820
SUMMARY:Πληροφορική: Θεωρία
DESCRIPTION: (276-190206) Πληροφορική, 2o εξάμηνο, Θεωρία
URL:https://www.food.ihu.gr/courses/276-190206/
UID: 7875-16
LAST-MODIFIED:20260213T135820
TRANSP:OPAQUE
END:VEVENT
BEGIN:VEVENT
DTSTART:20260420T090000
DTEND:20260420T120000
DTSTAMP:20260213T135820
CREATED:20260213T135820
SUMMARY:Πληροφορική: Εργαστήριο Ομάδα Α
DESCRIPTION: (276-190206) Πληροφορική, 2o εξάμηνο, Εργαστήριο Ομάδα Α
URL:https://www.food.ihu.gr/courses/276-190206/
UID: 7875-17
LAST-MODIFIED:20260213T135820
TRANSP:OPAQUE
END:VEVENT
BEGIN:VEVENT
DTSTART:20260420T120000
DTEND:20260420T150000
DTSTAMP:20260213T135820
CREATED:20260213T135820
SUMMARY:Πληροφορική: Εργαστήριο Ομάδα Β
DESCRIPTION: (276-190206) Πληροφορική, 2o εξάμηνο, Εργαστήριο Ομάδα Β
URL:https://www.food.ihu.gr/courses/276-190206/
UID: 7875-18
LAST-MODIFIED:20260213T135820
TRANSP:OPAQUE
END:VEVENT
BEGIN:VEVENT
DTSTART:20260420T150000
DTEND:20260420T180000
DTSTAMP:20260213T135820
CREATED:20260213T135820
SUMMARY:Πληροφορική: Εργαστήριο Ομάδα Γ
DESCRIPTION: (276-190206) Πληροφορική, 2o εξάμηνο, Εργαστήριο Ομάδα Γ
URL:https://www.food.ihu.gr/courses/276-190206/
UID: 7875-19
LAST-MODIFIED:20260213T135820
TRANSP:OPAQUE
END:VEVENT
BEGIN:VEVENT
DTSTART:20260421T110000
DTEND:20260421T130000
DTSTAMP:20260213T135820
CREATED:20260213T135820
SUMMARY:Βιοχημεία Τροφίμων: 
DESCRIPTION: (276-190204) Βιοχημεία Τροφίμων, 2o εξάμηνο, 
URL:https://www.food.ihu.gr/courses/276-190204/
UID: 7875-20
LAST-MODIFIED:20260213T135820
TRANSP:OPAQUE
END:VEVENT
BEGIN:VEVENT
DTSTART:20260422T090000
DTEND:20260422T110000
DTSTAMP:20260213T135820
CREATED:20260213T135820
SUMMARY:Ειδικά Θέματα Φυσικής: 
DESCRIPTION: (276-190207) Ειδικά Θέματα Φυσικής, 2o εξάμηνο, 
URL:https://www.food.ihu.gr/courses/276-190207/
UID: 7875-21
LAST-MODIFIED:20260213T135820
TRANSP:OPAQUE
END:VEVENT
BEGIN:VEVENT
DTSTART:20260423T160000
DTEND:20260423T190000
DTSTAMP:20260213T135820
CREATED:20260213T135820
SUMMARY:Φυσικοχημεία Τροφίμων: 
DESCRIPTION: (276-190205) Φυσικοχημεία Τροφίμων, 2o εξάμηνο, 
URL:https://www.food.ihu.gr/courses/276-190205/
UID: 7875-22
LAST-MODIFIED:20260213T135820
TRANSP:OPAQUE
END:VEVENT
BEGIN:VEVENT
DTSTART:20260422T110000
DTEND:20260422T170000
DTSTAMP:20260213T135820
CREATED:20260213T135820
SUMMARY:Μαθηματικά ΙΙ: 
DESCRIPTION: (276-190201) Μαθηματικά ΙΙ, 2o εξάμηνο, 
URL:https://www.food.ihu.gr/courses/276-190201/
UID: 7875-23
LAST-MODIFIED:20260213T135820
TRANSP:OPAQUE
END:VEVENT
BEGIN:VEVENT
DTSTART:20260423T090000
DTEND:20260423T120000
DTSTAMP:20260213T135820
CREATED:20260213T135820
SUMMARY:Ανάλυση Τροφίμων: Θεωρία
DESCRIPTION: (276-190407) Ανάλυση Τροφίμων, 4ο εξάμηνο, Θεωρία
URL:https://www.food.ihu.gr/courses/276-190407/
UID: 7875-24
LAST-MODIFIED:20260213T135820
TRANSP:OPAQUE
END:VEVENT
BEGIN:VEVENT
DTSTART:20260421T110000
DTEND:20260421T130000
DTSTAMP:20260213T135820
CREATED:20260213T135820
SUMMARY:Ανάλυση Τροφίμων: Εργαστήριο Ομάδα Α
DESCRIPTION: (276-190407) Ανάλυση Τροφίμων, 4ο εξάμηνο, Εργαστήριο Ομάδα Α
URL:https://www.food.ihu.gr/courses/276-190407/
UID: 7875-25
LAST-MODIFIED:20260213T135820
TRANSP:OPAQUE
END:VEVENT
BEGIN:VEVENT
DTSTART:20260421T130000
DTEND:20260421T150000
DTSTAMP:20260213T135820
CREATED:20260213T135820
SUMMARY:Ανάλυση Τροφίμων: Εργαστήριο Ομάδα Β
DESCRIPTION: (276-190407) Ανάλυση Τροφίμων, 4ο εξάμηνο, Εργαστήριο Ομάδα Β
URL:https://www.food.ihu.gr/courses/276-190407/
UID: 7875-26
LAST-MODIFIED:20260213T135820
TRANSP:OPAQUE
END:VEVENT
BEGIN:VEVENT
DTSTART:20260422T100000
DTEND:20260422T120000
DTSTAMP:20260213T135820
CREATED:20260213T135820
SUMMARY:Ανάλυση Τροφίμων: Εργαστήριο Ομάδα Γ
DESCRIPTION: (276-190407) Ανάλυση Τροφίμων, 4ο εξάμηνο, Εργαστήριο Ομάδα Γ
URL:https://www.food.ihu.gr/courses/276-190407/
UID: 7875-27
LAST-MODIFIED:20260213T135820
TRANSP:OPAQUE
END:VEVENT
BEGIN:VEVENT
DTSTART:20260422T120000
DTEND:20260422T140000
DTSTAMP:20260213T135820
CREATED:20260213T135820
SUMMARY:Ανάλυση Τροφίμων: Εργαστήριο Ομάδα Δ
DESCRIPTION: (276-190407) Ανάλυση Τροφίμων, 4ο εξάμηνο, Εργαστήριο Ομάδα Δ
URL:https://www.food.ihu.gr/courses/276-190407/
UID: 7875-28
LAST-MODIFIED:20260213T135820
TRANSP:OPAQUE
END:VEVENT
BEGIN:VEVENT
DTSTART:20260422T140000
DTEND:20260422T160000
DTSTAMP:20260213T135820
CREATED:20260213T135820
SUMMARY:Ανάλυση Τροφίμων: Εργαστήριο Ομάδα Ε
DESCRIPTION: (276-190407) Ανάλυση Τροφίμων, 4ο εξάμηνο, Εργαστήριο Ομάδα Ε
URL:https://www.food.ihu.gr/courses/276-190407/
UID: 7875-29
LAST-MODIFIED:20260213T135820
TRANSP:OPAQUE
END:VEVENT
BEGIN:VEVENT
DTSTART:20260421T160000
DTEND:20260421T190000
DTSTAMP:20260213T135820
CREATED:20260213T135820
SUMMARY:Μηχανική Τροφίμων ΙΙ: Θεωρία
DESCRIPTION: (276-190401) Μηχανική Τροφίμων ΙΙ, 4ο εξάμηνο, Θεωρία
URL:https://www.food.ihu.gr/courses/276-190401/
UID: 7875-30
LAST-MODIFIED:20260213T135820
TRANSP:OPAQUE
END:VEVENT
BEGIN:VEVENT
DTSTART:20260421T100000
DTEND:20260421T130000
DTSTAMP:20260213T135820
CREATED:20260213T135820
SUMMARY:Μηχανική Τροφίμων ΙΙ: Εργαστήριο Ομάδα Α
DESCRIPTION: (276-190401) Μηχανική Τροφίμων ΙΙ, 4ο εξάμηνο, Εργαστήριο Ομάδα Α
URL:https://www.food.ihu.gr/courses/276-190401/
UID: 7875-31
LAST-MODIFIED:20260213T135820
TRANSP:OPAQUE
END:VEVENT
BEGIN:VEVENT
DTSTART:20260421T130000
DTEND:20260421T160000
DTSTAMP:20260213T135820
CREATED:20260213T135820
SUMMARY:Μηχανική Τροφίμων ΙΙ: Εργαστήριο Ομάδα Β
DESCRIPTION: (276-190401) Μηχανική Τροφίμων ΙΙ, 4ο εξάμηνο, Εργαστήριο Ομάδα Β
URL:https://www.food.ihu.gr/courses/276-190401/
UID: 7875-32
LAST-MODIFIED:20260213T135820
TRANSP:OPAQUE
END:VEVENT
BEGIN:VEVENT
DTSTART:20260423T140000
DTEND:20260423T160000
DTSTAMP:20260213T135820
CREATED:20260213T135820
SUMMARY:Οργάνωση και Διοίκηση Βιομηχανικών Επιχειρήσεων: 
DESCRIPTION: (276-190406) Οργάνωση και Διοίκηση Βιομηχανικών Επιχειρήσεων, 4ο εξάμηνο, 
URL:https://www.food.ihu.gr/courses/276-190406/
UID: 7875-33
LAST-MODIFIED:20260213T135820
TRANSP:OPAQUE
END:VEVENT
BEGIN:VEVENT
DTSTART:20260420T120000
DTEND:20260420T140000
DTSTAMP:20260213T135820
CREATED:20260213T135820
SUMMARY:Σύνταξη Επιστημονικών Εκθέσεων (Σεμινάριο): Εργαστήριο Ομάδες Α και Β
DESCRIPTION: (276-190405) Σύνταξη Επιστημονικών Εκθέσεων (Σεμινάριο), 4ο εξάμηνο, Εργαστήριο Ομάδες Α και Β
URL:https://www.food.ihu.gr/courses/276-190405/
UID: 7875-34
LAST-MODIFIED:20260213T135820
TRANSP:OPAQUE
END:VEVENT
BEGIN:VEVENT
DTSTART:20260422T120000
DTEND:20260422T140000
DTSTAMP:20260213T135820
CREATED:20260213T135820
SUMMARY:Σύνταξη Επιστημονικών Εκθέσεων (Σεμινάριο): Εργαστήριο Ομάδες Γ και Δ
DESCRIPTION: (276-190405) Σύνταξη Επιστημονικών Εκθέσεων (Σεμινάριο), 4ο εξάμηνο, Εργαστήριο Ομάδες Γ και Δ
URL:https://www.food.ihu.gr/courses/276-190405/
UID: 7875-35
LAST-MODIFIED:20260213T135820
TRANSP:OPAQUE
END:VEVENT
BEGIN:VEVENT
DTSTART:20260420T140000
DTEND:20260420T160000
DTSTAMP:20260213T135820
CREATED:20260213T135820
SUMMARY:Υγιεινή και Ασφάλεια Βιομηχανικών Τροφίμων: 
DESCRIPTION: (276-190402) Υγιεινή και Ασφάλεια Βιομηχανικών Τροφίμων, 4ο εξάμηνο, 
URL:https://www.food.ihu.gr/courses/276-190402/
UID: 7875-36
LAST-MODIFIED:20260213T135820
TRANSP:OPAQUE
END:VEVENT
BEGIN:VEVENT
DTSTART:20260423T120000
DTEND:20260423T140000
DTSTAMP:20260213T135820
CREATED:20260213T135820
SUMMARY:Μάρκετινγκ Τροφίμων: 
DESCRIPTION: (276-190403) Μάρκετινγκ Τροφίμων, 4ο εξάμηνο, 
URL:https://www.food.ihu.gr/courses/276-190403/
UID: 7875-37
LAST-MODIFIED:20260213T135820
TRANSP:OPAQUE
END:VEVENT
BEGIN:VEVENT
DTSTART:20260422T160000
DTEND:20260422T190000
DTSTAMP:20260213T135820
CREATED:20260213T135820
SUMMARY:Επεξεργασία Τροφίμων Ι: Θεωρία
DESCRIPTION: (276-190404) Επεξεργασία Τροφίμων Ι, 4ο εξάμηνο, Θεωρία
URL:https://www.food.ihu.gr/courses/276-190404/
UID: 7875-38
LAST-MODIFIED:20260213T135820
TRANSP:OPAQUE
END:VEVENT
BEGIN:VEVENT
DTSTART:20260421T100000
DTEND:20260421T130000
DTSTAMP:20260213T135820
CREATED:20260213T135820
SUMMARY:Επεξεργασία Τροφίμων Ι: Εργαστήριο Ομάδα Α
DESCRIPTION: (276-190404) Επεξεργασία Τροφίμων Ι, 4ο εξάμηνο, Εργαστήριο Ομάδα Α
URL:https://www.food.ihu.gr/courses/276-190404/
UID: 7875-39
LAST-MODIFIED:20260213T135820
TRANSP:OPAQUE
END:VEVENT
BEGIN:VEVENT
DTSTART:20260421T130000
DTEND:20260421T160000
DTSTAMP:20260213T135820
CREATED:20260213T135820
SUMMARY:Επεξεργασία Τροφίμων Ι: Εργαστήριο Ομάδα Β
DESCRIPTION: (276-190404) Επεξεργασία Τροφίμων Ι, 4ο εξάμηνο, Εργαστήριο Ομάδα Β
URL:https://www.food.ihu.gr/courses/276-190404/
UID: 7875-40
LAST-MODIFIED:20260213T135820
TRANSP:OPAQUE
END:VEVENT
BEGIN:VEVENT
DTSTART:20260421T150000
DTEND:20260421T170000
DTSTAMP:20260213T135820
CREATED:20260213T135820
SUMMARY:Διαχείριση Έργου: 
DESCRIPTION: (276-190613) Διαχείριση Έργου, 6ο εξάμηνο, 
URL:https://www.food.ihu.gr/courses/276-190613/
UID: 7875-41
LAST-MODIFIED:20260213T135820
TRANSP:OPAQUE
END:VEVENT
BEGIN:VEVENT
DTSTART:20260420T170000
DTEND:20260420T190000
DTSTAMP:20260213T135820
CREATED:20260213T135820
SUMMARY:Διαχείριση και Επεξεργασία Αποβλήτων από Βιομηχανίες Τροφίμων: 
DESCRIPTION: (276-190605) Διαχείριση και Επεξεργασία Αποβλήτων από Βιομηχανίες Τροφίμων, 6ο εξάμηνο, 
URL:https://www.food.ihu.gr/courses/276-190605/
UID: 7875-42
LAST-MODIFIED:20260213T135820
TRANSP:OPAQUE
END:VEVENT
BEGIN:VEVENT
DTSTART:20260424T130000
DTEND:20260424T150000
DTSTAMP:20260213T135820
CREATED:20260213T135820
SUMMARY:Διαχείριση Ποιότητας: 
DESCRIPTION: (276-190607) Διαχείριση Ποιότητας, 6ο εξάμηνο, 
URL:https://www.food.ihu.gr/courses/276-190607/
UID: 7875-43
LAST-MODIFIED:20260213T135820
TRANSP:OPAQUE
END:VEVENT
BEGIN:VEVENT
DTSTART:20260422T130000
DTEND:20260422T150000
DTSTAMP:20260213T135820
CREATED:20260213T135820
SUMMARY:Εφαρμογές Πληροφορικής στην Τεχνολογία Τροφίμων: 
DESCRIPTION: (276-190608) Εφαρμογές Πληροφορικής στην Τεχνολογία Τροφίμων, 6ο εξάμηνο, 
URL:https://www.food.ihu.gr/courses/276-190608/
UID: 7875-44
LAST-MODIFIED:20260213T135820
TRANSP:OPAQUE
END:VEVENT
BEGIN:VEVENT
DTSTART:20260422T110000
DTEND:20260422T130000
DTSTAMP:20260213T135820
CREATED:20260213T135820
SUMMARY:Λογιστική Επιχειρήσεων Τροφίμων: 
DESCRIPTION: (276-190611) Λογιστική Επιχειρήσεων Τροφίμων, 6ο εξάμηνο, 
URL:https://www.food.ihu.gr/courses/276-190611/
UID: 7875-45
LAST-MODIFIED:20260213T135820
TRANSP:OPAQUE
END:VEVENT
BEGIN:VEVENT
DTSTART:20260422T150000
DTEND:20260422T170000
DTSTAMP:20260213T135820
CREATED:20260213T135820
SUMMARY:Νανοτεχνολογία και Βιοϋλικά: 
DESCRIPTION: (276-190606) Νανοτεχνολογία και Βιοϋλικά, 6ο εξάμηνο, 
URL:https://www.food.ihu.gr/courses/276-190606/
UID: 7875-46
LAST-MODIFIED:20260213T135820
TRANSP:OPAQUE
END:VEVENT
BEGIN:VEVENT
DTSTART:20260423T120000
DTEND:20260423T140000
DTSTAMP:20260213T135820
CREATED:20260213T135820
SUMMARY:Πολυμεταβλητές Τεχνικές: Στατιστική Ανάλυση και Εφαρμογές Περιπτώσεων: 
DESCRIPTION: (276-190612) Πολυμεταβλητές Τεχνικές: Στατιστική Ανάλυση και Εφαρμογές Περιπτώσεων, 6ο εξάμηνο, 
URL:https://www.food.ihu.gr/courses/276-190612/
UID: 7875-47
LAST-MODIFIED:20260213T135820
TRANSP:OPAQUE
END:VEVENT
BEGIN:VEVENT
DTSTART:20260423T140000
DTEND:20260423T160000
DTSTAMP:20260213T135820
CREATED:20260213T135820
SUMMARY:Στατιστικές Τεχνικές Βελτιστοποίησης Προϊόντος: 
DESCRIPTION: (276-190609) Στατιστικές Τεχνικές Βελτιστοποίησης Προϊόντος, 6ο εξάμηνο, 
URL:https://www.food.ihu.gr/courses/276-190609/
UID: 7875-48
LAST-MODIFIED:20260213T135820
TRANSP:OPAQUE
END:VEVENT
BEGIN:VEVENT
DTSTART:20260424T100000
DTEND:20260424T120000
DTSTAMP:20260213T135820
CREATED:20260213T135820
SUMMARY:Τεχνικά Αγγλικά: 
DESCRIPTION: (276-190610) Τεχνικά Αγγλικά, 6ο εξάμηνο, 
URL:https://www.food.ihu.gr/courses/276-190610/
UID: 7875-49
LAST-MODIFIED:20260213T135820
TRANSP:OPAQUE
END:VEVENT
BEGIN:VEVENT
DTSTART:20260421T100000
DTEND:20260421T130000
DTSTAMP:20260213T135820
CREATED:20260213T135820
SUMMARY:Τεχνολογία και Έλεγχος Ποιότητας Κρέατος και Κρεατοσκευασμάτων: Θεωρία
DESCRIPTION: (276-190603) Τεχνολογία και Έλεγχος Ποιότητας Κρέατος και Κρεατοσκευασμάτων, 6ο εξάμηνο, Θεωρία
URL:https://www.food.ihu.gr/courses/276-190603/
UID: 7875-50
LAST-MODIFIED:20260213T135820
TRANSP:OPAQUE
END:VEVENT
BEGIN:VEVENT
DTSTART:20260420T100000
DTEND:20260420T130000
DTSTAMP:20260213T135820
CREATED:20260213T135820
SUMMARY:Τεχνολογία και Έλεγχος Ποιότητας Κρέατος και Κρεατοσκευασμάτων: Εργαστήριο Ομάδα Α
DESCRIPTION: (276-190603) Τεχνολογία και Έλεγχος Ποιότητας Κρέατος και Κρεατοσκευασμάτων, 6ο εξάμηνο, Εργαστήριο Ομάδα Α
URL:https://www.food.ihu.gr/courses/276-190603/
UID: 7875-51
LAST-MODIFIED:20260213T135820
TRANSP:OPAQUE
END:VEVENT
BEGIN:VEVENT
DTSTART:20260420T130000
DTEND:20260420T160000
DTSTAMP:20260213T135820
CREATED:20260213T135820
SUMMARY:Τεχνολογία και Έλεγχος Ποιότητας Κρέατος και Κρεατοσκευασμάτων: Εργαστήριο Ομάδα Β
DESCRIPTION: (276-190603) Τεχνολογία και Έλεγχος Ποιότητας Κρέατος και Κρεατοσκευασμάτων, 6ο εξάμηνο, Εργαστήριο Ομάδα Β
URL:https://www.food.ihu.gr/courses/276-190603/
UID: 7875-52
LAST-MODIFIED:20260213T135820
TRANSP:OPAQUE
END:VEVENT
BEGIN:VEVENT
DTSTART:20260423T160000
DTEND:20260423T190000
DTSTAMP:20260213T135820
CREATED:20260213T135820
SUMMARY:Τεχνολογία και Έλεγχος Ποιότητας Νερού: Θεωρία
DESCRIPTION: (276-190604) Τεχνολογία και Έλεγχος Ποιότητας Νερού, 6ο εξάμηνο, Θεωρία
URL:https://www.food.ihu.gr/courses/276-190604/
UID: 7875-53
LAST-MODIFIED:20260213T135820
TRANSP:OPAQUE
END:VEVENT
BEGIN:VEVENT
DTSTART:20260423T100000
DTEND:20260423T130000
DTSTAMP:20260213T135820
CREATED:20260213T135820
SUMMARY:Τεχνολογία και Έλεγχος Ποιότητας Νερού: Εργαστήριο Ομάδα Α
DESCRIPTION: (276-190604) Τεχνολογία και Έλεγχος Ποιότητας Νερού, 6ο εξάμηνο, Εργαστήριο Ομάδα Α
URL:https://www.food.ihu.gr/courses/276-190604/
UID: 7875-54
LAST-MODIFIED:20260213T135820
TRANSP:OPAQUE
END:VEVENT
BEGIN:VEVENT
DTSTART:20260423T130000
DTEND:20260423T160000
DTSTAMP:20260213T135820
CREATED:20260213T135820
SUMMARY:Τεχνολογία και Έλεγχος Ποιότητας Νερού: Εργαστήριο Ομάδα Β
DESCRIPTION: (276-190604) Τεχνολογία και Έλεγχος Ποιότητας Νερού, 6ο εξάμηνο, Εργαστήριο Ομάδα Β
URL:https://www.food.ihu.gr/courses/276-190604/
UID: 7875-55
LAST-MODIFIED:20260213T135820
TRANSP:OPAQUE
END:VEVENT
BEGIN:VEVENT
DTSTART:20260421T130000
DTEND:20260421T150000
DTSTAMP:20260213T135820
CREATED:20260213T135820
SUMMARY:Τεχνολογία και Έλεγχος Ποιότητας Σιτηρών: Θεωρία
DESCRIPTION: (276-190601) Τεχνολογία και Έλεγχος Ποιότητας Σιτηρών, 6ο εξάμηνο, Θεωρία
URL:https://www.food.ihu.gr/courses/276-190601/
UID: 7875-56
LAST-MODIFIED:20260213T135820
TRANSP:OPAQUE
END:VEVENT
BEGIN:VEVENT
DTSTART:20260420T160000
DTEND:20260420T170000
DTSTAMP:20260213T135820
CREATED:20260213T135820
SUMMARY:Τεχνολογία και Έλεγχος Ποιότητας Σιτηρών: Θεωρία
DESCRIPTION: (276-190601) Τεχνολογία και Έλεγχος Ποιότητας Σιτηρών, 6ο εξάμηνο, Θεωρία
URL:https://www.food.ihu.gr/courses/276-190601/
UID: 7875-57
LAST-MODIFIED:20260213T135820
TRANSP:OPAQUE
END:VEVENT
BEGIN:VEVENT
DTSTART:20260420T130000
DTEND:20260420T160000
DTSTAMP:20260213T135820
CREATED:20260213T135820
SUMMARY:Τεχνολογία και Έλεγχος Ποιότητας Σιτηρών: Εργαστήριο Ομάδα Α
DESCRIPTION: (276-190601) Τεχνολογία και Έλεγχος Ποιότητας Σιτηρών, 6ο εξάμηνο, Εργαστήριο Ομάδα Α
URL:https://www.food.ihu.gr/courses/276-190601/
UID: 7875-58
LAST-MODIFIED:20260213T135820
TRANSP:OPAQUE
END:VEVENT
BEGIN:VEVENT
DTSTART:20260421T150000
DTEND:20260421T180000
DTSTAMP:20260213T135820
CREATED:20260213T135820
SUMMARY:Τεχνολογία και Έλεγχος Ποιότητας Σιτηρών: Εργαστήριο Ομάδα Β
DESCRIPTION: (276-190601) Τεχνολογία και Έλεγχος Ποιότητας Σιτηρών, 6ο εξάμηνο, Εργαστήριο Ομάδα Β
URL:https://www.food.ihu.gr/courses/276-190601/
UID: 7875-59
LAST-MODIFIED:20260213T135820
TRANSP:OPAQUE
END:VEVENT
BEGIN:VEVENT
DTSTART:20260423T100000
DTEND:20260423T130000
DTSTAMP:20260213T135820
CREATED:20260213T135820
SUMMARY:Τεχνολογία και Έλεγχος Ποιότητας Σιτηρών: Εργαστήριο Ομάδα Γ
DESCRIPTION: (276-190601) Τεχνολογία και Έλεγχος Ποιότητας Σιτηρών, 6ο εξάμηνο, Εργαστήριο Ομάδα Γ
URL:https://www.food.ihu.gr/courses/276-190601/
UID: 7875-60
LAST-MODIFIED:20260213T135820
TRANSP:OPAQUE
END:VEVENT
BEGIN:VEVENT
DTSTART:20260423T130000
DTEND:20260423T160000
DTSTAMP:20260213T135820
CREATED:20260213T135820
SUMMARY:Τεχνολογία και Έλεγχος Ποιότητας Σιτηρών: Εργαστήριο Ομάδα Δ
DESCRIPTION: (276-190601) Τεχνολογία και Έλεγχος Ποιότητας Σιτηρών, 6ο εξάμηνο, Εργαστήριο Ομάδα Δ
URL:https://www.food.ihu.gr/courses/276-190601/
UID: 7875-61
LAST-MODIFIED:20260213T135820
TRANSP:OPAQUE
END:VEVENT
BEGIN:VEVENT
DTSTART:20260423T160000
DTEND:20260423T190000
DTSTAMP:20260213T135820
CREATED:20260213T135820
SUMMARY:Τεχνολογία και Έλεγχος Ποιότητας Σιτηρών: Εργαστήριο Ομάδα Ε
DESCRIPTION: (276-190601) Τεχνολογία και Έλεγχος Ποιότητας Σιτηρών, 6ο εξάμηνο, Εργαστήριο Ομάδα Ε
URL:https://www.food.ihu.gr/courses/276-190601/
UID: 7875-62
LAST-MODIFIED:20260213T135820
TRANSP:OPAQUE
END:VEVENT
BEGIN:VEVENT
DTSTART:20260424T150000
DTEND:20260424T180000
DTSTAMP:20260213T135820
CREATED:20260213T135820
SUMMARY:Τεχνολογία και Έλεγχος Ποιότητας Φρούτων και Λαχανικών: Θεωρία
DESCRIPTION: (276-190602) Τεχνολογία και Έλεγχος Ποιότητας Φρούτων και Λαχανικών, 6ο εξάμηνο, Θεωρία
URL:https://www.food.ihu.gr/courses/276-190602/
UID: 7875-63
LAST-MODIFIED:20260213T135820
TRANSP:OPAQUE
END:VEVENT
BEGIN:VEVENT
DTSTART:20260420T100000
DTEND:20260420T130000
DTSTAMP:20260213T135820
CREATED:20260213T135820
SUMMARY:Τεχνολογία και Έλεγχος Ποιότητας Φρούτων και Λαχανικών: Εργαστήριο Ομάδα Α
DESCRIPTION: (276-190602) Τεχνολογία και Έλεγχος Ποιότητας Φρούτων και Λαχανικών, 6ο εξάμηνο, Εργαστήριο Ομάδα Α
URL:https://www.food.ihu.gr/courses/276-190602/
UID: 7875-64
LAST-MODIFIED:20260213T135820
TRANSP:OPAQUE
END:VEVENT
BEGIN:VEVENT
DTSTART:20260420T130000
DTEND:20260420T160000
DTSTAMP:20260213T135820
CREATED:20260213T135820
SUMMARY:Τεχνολογία και Έλεγχος Ποιότητας Φρούτων και Λαχανικών: Εργαστήριο Ομάδα Β
DESCRIPTION: (276-190602) Τεχνολογία και Έλεγχος Ποιότητας Φρούτων και Λαχανικών, 6ο εξάμηνο, Εργαστήριο Ομάδα Β
URL:https://www.food.ihu.gr/courses/276-190602/
UID: 7875-65
LAST-MODIFIED:20260213T135820
TRANSP:OPAQUE
END:VEVENT
BEGIN:VEVENT
DTSTART:20260423T100000
DTEND:20260423T130000
DTSTAMP:20260213T135820
CREATED:20260213T135820
SUMMARY:Τεχνολογία και Έλεγχος Ποιότητας Φρούτων και Λαχανικών: Εργαστήριο Ομάδα Γ
DESCRIPTION: (276-190602) Τεχνολογία και Έλεγχος Ποιότητας Φρούτων και Λαχανικών, 6ο εξάμηνο, Εργαστήριο Ομάδα Γ
URL:https://www.food.ihu.gr/courses/276-190602/
UID: 7875-66
LAST-MODIFIED:20260213T135820
TRANSP:OPAQUE
END:VEVENT
BEGIN:VEVENT
DTSTART:20260423T130000
DTEND:20260423T160000
DTSTAMP:20260213T135820
CREATED:20260213T135820
SUMMARY:Τεχνολογία και Έλεγχος Ποιότητας Φρούτων και Λαχανικών: Εργαστήριο Ομάδα Δ
DESCRIPTION: (276-190602) Τεχνολογία και Έλεγχος Ποιότητας Φρούτων και Λαχανικών, 6ο εξάμηνο, Εργαστήριο Ομάδα Δ
URL:https://www.food.ihu.gr/courses/276-190602/
UID: 7875-67
LAST-MODIFIED:20260213T135820
TRANSP:OPAQUE
END:VEVENT
BEGIN:VEVENT
DTSTART:20260420T090000
DTEND:20260420T120000
DTSTAMP:20260213T135820
CREATED:20260213T135820
SUMMARY:Δομή και Λειτουργικότητα των Τροφίμων: 
DESCRIPTION: (276-190703) Δομή και Λειτουργικότητα των Τροφίμων, 8ο εξάμηνο, 
URL:https://www.food.ihu.gr/courses/276-190703/
UID: 7875-68
LAST-MODIFIED:20260213T135820
TRANSP:OPAQUE
END:VEVENT
BEGIN:VEVENT
DTSTART:20260424T090000
DTEND:20260424T150000
DTSTAMP:20260213T135820
CREATED:20260213T135820
SUMMARY:Ανάπτυξη Νέων Προϊόντων Τροφίμων: 
DESCRIPTION: (276-190802) Ανάπτυξη Νέων Προϊόντων Τροφίμων, 8ο εξάμηνο, 
URL:https://www.food.ihu.gr/courses/276-190802/
UID: 7875-69
LAST-MODIFIED:20260213T135820
TRANSP:OPAQUE
END:VEVENT
BEGIN:VEVENT
DTSTART:20260423T120000
DTEND:20260423T140000
DTSTAMP:20260213T135820
CREATED:20260213T135820
SUMMARY:Βιοτεχνολογία Τροφίμων και Βιομηχανικές Ζυμώσεις: Θεωρία
DESCRIPTION: (276-190801) Βιοτεχνολογία Τροφίμων και Βιομηχανικές Ζυμώσεις, 8ο εξάμηνο, Θεωρία
URL:https://www.food.ihu.gr/courses/276-190801/
UID: 7875-70
LAST-MODIFIED:20260213T135820
TRANSP:OPAQUE
END:VEVENT
BEGIN:VEVENT
DTSTART:20260421T100000
DTEND:20260421T130000
DTSTAMP:20260213T135820
CREATED:20260213T135820
SUMMARY:Βιοτεχνολογία Τροφίμων και Βιομηχανικές Ζυμώσεις: Εργαστήριο Ομάδα Α
DESCRIPTION: (276-190801) Βιοτεχνολογία Τροφίμων και Βιομηχανικές Ζυμώσεις, 8ο εξάμηνο, Εργαστήριο Ομάδα Α
URL:https://www.food.ihu.gr/courses/276-190801/
UID: 7875-71
LAST-MODIFIED:20260213T135820
TRANSP:OPAQUE
END:VEVENT
BEGIN:VEVENT
DTSTART:20260421T130000
DTEND:20260421T160000
DTSTAMP:20260213T135820
CREATED:20260213T135820
SUMMARY:Βιοτεχνολογία Τροφίμων και Βιομηχανικές Ζυμώσεις: Εργαστήριο Ομάδα Β
DESCRIPTION: (276-190801) Βιοτεχνολογία Τροφίμων και Βιομηχανικές Ζυμώσεις, 8ο εξάμηνο, Εργαστήριο Ομάδα Β
URL:https://www.food.ihu.gr/courses/276-190801/
UID: 7875-72
LAST-MODIFIED:20260213T135820
TRANSP:OPAQUE
END:VEVENT
BEGIN:VEVENT
DTSTART:20260422T100000
DTEND:20260422T130000
DTSTAMP:20260213T135820
CREATED:20260213T135820
SUMMARY:Βιοτεχνολογία Τροφίμων και Βιομηχανικές Ζυμώσεις: Εργαστήριο Ομάδα Γ
DESCRIPTION: (276-190801) Βιοτεχνολογία Τροφίμων και Βιομηχανικές Ζυμώσεις, 8ο εξάμηνο, Εργαστήριο Ομάδα Γ
URL:https://www.food.ihu.gr/courses/276-190801/
UID: 7875-73
LAST-MODIFIED:20260213T135820
TRANSP:OPAQUE
END:VEVENT
BEGIN:VEVENT
DTSTART:20260422T130000
DTEND:20260422T160000
DTSTAMP:20260213T135820
CREATED:20260213T135820
SUMMARY:Βιοτεχνολογία Τροφίμων και Βιομηχανικές Ζυμώσεις: Εργαστήριο Ομάδα Δ
DESCRIPTION: (276-190801) Βιοτεχνολογία Τροφίμων και Βιομηχανικές Ζυμώσεις, 8ο εξάμηνο, Εργαστήριο Ομάδα Δ
URL:https://www.food.ihu.gr/courses/276-190801/
UID: 7875-74
LAST-MODIFIED:20260213T135820
TRANSP:OPAQUE
END:VEVENT
BEGIN:VEVENT
DTSTART:20260423T090000
DTEND:20260423T120000
DTSTAMP:20260213T135820
CREATED:20260213T135820
SUMMARY:Βιοτεχνολογία Τροφίμων και Βιομηχανικές Ζυμώσεις: Εργαστήριο Ομάδα Ε
DESCRIPTION: (276-190801) Βιοτεχνολογία Τροφίμων και Βιομηχανικές Ζυμώσεις, 8ο εξάμηνο, Εργαστήριο Ομάδα Ε
URL:https://www.food.ihu.gr/courses/276-190801/
UID: 7875-75
LAST-MODIFIED:20260213T135820
TRANSP:OPAQUE
END:VEVENT
BEGIN:VEVENT
DTSTART:20260423T140000
DTEND:20260423T170000
DTSTAMP:20260213T135820
CREATED:20260213T135820
SUMMARY:Βιοτεχνολογία Τροφίμων και Βιομηχανικές Ζυμώσεις: Εργαστήριο Ομάδα ΣΤ
DESCRIPTION: (276-190801) Βιοτεχνολογία Τροφίμων και Βιομηχανικές Ζυμώσεις, 8ο εξάμηνο, Εργαστήριο Ομάδα ΣΤ
URL:https://www.food.ihu.gr/courses/276-190801/
UID: 7875-76
LAST-MODIFIED:20260213T135820
TRANSP:OPAQUE
END:VEVENT
BEGIN:VEVENT
DTSTART:20260424T150000
DTEND:20260424T170000
DTSTAMP:20260213T135820
CREATED:20260213T135820
SUMMARY:Έλεγχος Αυθεντικότητας Τροφίμων: 
DESCRIPTION: (276-190805) Έλεγχος Αυθεντικότητας Τροφίμων, 8ο εξάμηνο, 
URL:https://www.food.ihu.gr/courses/276-190805/
UID: 7875-77
LAST-MODIFIED:20260213T135820
TRANSP:OPAQUE
END:VEVENT
BEGIN:VEVENT
DTSTART:20260422T170000
DTEND:20260422T200000
DTSTAMP:20260213T135820
CREATED:20260213T135820
SUMMARY:Μετρήσεις και Έλεγχος Διεργασιών στη Βιομηχανία Τροφίμων: 
DESCRIPTION: (276-190803) Μετρήσεις και Έλεγχος Διεργασιών στη Βιομηχανία Τροφίμων, 8ο εξάμηνο, 
URL:https://www.food.ihu.gr/courses/276-190803/
UID: 7875-78
LAST-MODIFIED:20260213T135820
TRANSP:OPAQUE
END:VEVENT
BEGIN:VEVENT
DTSTART:20260420T120000
DTEND:20260420T140000
DTSTAMP:20260213T135820
CREATED:20260213T135820
SUMMARY:Επιδημιολογία, Μικροβιολογική Ασφάλεια Τροφίμων, Δημόσια Υγεία: 
DESCRIPTION: (276-190806) Επιδημιολογία, Μικροβιολογική Ασφάλεια Τροφίμων, Δημόσια Υγεία, 8ο εξάμηνο, 
URL:https://www.food.ihu.gr/courses/276-190806/
UID: 7875-79
LAST-MODIFIED:20260213T135820
TRANSP:OPAQUE
END:VEVENT
END:VCALENDAR